BEGIN:VCALENDAR
VERSION:2.0
PRODID:https://www.molins.com
X-PUBLISHED-TTL:P1W
BEGIN:VEVENT
UID:69e5ed654fea5
DTSTART;VALUE=DATE:20211026
SEQUENCE:0
TRANSP:OPAQUE
DTEND;VALUE=DATE:20211028
URL:https://www.molins.com/en/exhibitions/world-tobacco-middle-east
LOCATION:Dubai\, UAE
SUMMARY:World Tobacco Middle East
CLASS:PUBLIC
X-ALT-DESC;FMTTYPE=text/html:<p>Molins will be exhibiting at World Tobacco 
 Middle East 2021\, at booth G15\, together with G.D\, Sasib\, Cerulean and
  Comas.&nbsp\;</p>\n\, coesia_editor_manager
X-MICROSOFT-CDO-ALLDAYEVENT:TRUE
DTSTAMP:20260420T110957Z
END:VEVENT
END:VCALENDAR